BEGIN:VCALENDAR
VERSION:2.0
PRODID:-//Br. Nath Pai Central School, Kudal - ECPv6.15.20//NONSGML v1.0//EN
CALSCALE:GREGORIAN
METHOD:PUBLISH
X-ORIGINAL-URL:https://bnpcbse.com
X-WR-CALDESC:Events for Br. Nath Pai Central School, Kudal
REFRESH-INTERVAL;VALUE=DURATION:PT1H
X-Robots-Tag:noindex
X-PUBLISHED-TTL:PT1H
BEGIN:VTIMEZONE
TZID:Asia/Kolkata
BEGIN:STANDARD
TZOFFSETFROM:+0530
TZOFFSETTO:+0530
TZNAME:IST
DTSTART:20250101T000000
END:STANDARD
END:VTIMEZONE
BEGIN:VEVENT
DTSTART;VALUE=DATE:20260626
DTEND;VALUE=DATE:20260627
DTSTAMP:20260425T020632
CREATED:20260406T163706Z
LAST-MODIFIED:20260406T163706Z
UID:563-1782432000-1782518399@bnpcbse.com
SUMMARY:Moharam
DESCRIPTION:
URL:https://bnpcbse.com/event/moharam/
CATEGORIES:Festivals
END:VEVENT
BEGIN:VEVENT
DTSTART;VALUE=DATE:20260630
DTEND;VALUE=DATE:20260701
DTSTAMP:20260425T020632
CREATED:20260406T163734Z
LAST-MODIFIED:20260406T163734Z
UID:565-1782777600-1782863999@bnpcbse.com
SUMMARY:Vatpurnima
DESCRIPTION:
URL:https://bnpcbse.com/event/vatpurnima/
CATEGORIES:Festivals
END:VEVENT
END:VCALENDAR