BEGIN:VCALENDAR
VERSION:2.0
PRODID:-//Br. Nath Pai Central School, Kudal - ECPv6.15.20//NONSGML v1.0//EN
CALSCALE:GREGORIAN
METHOD:PUBLISH
X-ORIGINAL-URL:https://bnpcbse.com
X-WR-CALDESC:Events for Br. Nath Pai Central School, Kudal
REFRESH-INTERVAL;VALUE=DURATION:PT1H
X-Robots-Tag:noindex
X-PUBLISHED-TTL:PT1H
BEGIN:VTIMEZONE
TZID:Asia/Kolkata
BEGIN:STANDARD
TZOFFSETFROM:+0530
TZOFFSETTO:+0530
TZNAME:IST
DTSTART:20250101T000000
END:STANDARD
END:VTIMEZONE
BEGIN:VEVENT
DTSTART;TZID=Asia/Kolkata:20260311T080000
DTEND;TZID=Asia/Kolkata:20260314T170000
DTSTAMP:20260425T003927
CREATED:20260319T141234Z
LAST-MODIFIED:20260324T015243Z
UID:423-1773216000-1773507600@bnpcbse.com
SUMMARY:Final Exams
DESCRIPTION:
URL:https://bnpcbse.com/event/final-exams/
CATEGORIES:Final Exams
END:VEVENT
BEGIN:VEVENT
DTSTART;TZID=Asia/Kolkata:20260316T080000
DTEND;TZID=Asia/Kolkata:20260318T170000
DTSTAMP:20260425T003927
CREATED:20260324T015511Z
LAST-MODIFIED:20260324T015511Z
UID:506-1773648000-1773853200@bnpcbse.com
SUMMARY:Final Exams
DESCRIPTION:
URL:https://bnpcbse.com/event/final-exams-2/
CATEGORIES:Final Exams
END:VEVENT
END:VCALENDAR