BEGIN:VCALENDAR
VERSION:2.0
PRODID:-//Br. Nath Pai Central School, Kudal - ECPv6.15.20//NONSGML v1.0//EN
CALSCALE:GREGORIAN
METHOD:PUBLISH
X-ORIGINAL-URL:https://bnpcbse.com
X-WR-CALDESC:Events for Br. Nath Pai Central School, Kudal
REFRESH-INTERVAL;VALUE=DURATION:PT1H
X-Robots-Tag:noindex
X-PUBLISHED-TTL:PT1H
BEGIN:VTIMEZONE
TZID:Asia/Kolkata
BEGIN:STANDARD
TZOFFSETFROM:+0530
TZOFFSETTO:+0530
TZNAME:IST
DTSTART:20250101T000000
END:STANDARD
END:VTIMEZONE
BEGIN:VEVENT
DTSTART;VALUE=DATE:20261003
DTEND;VALUE=DATE:20261004
DTSTAMP:20260425T003810
CREATED:20260406T165235Z
LAST-MODIFIED:20260406T165235Z
UID:601-1790985600-1791071999@bnpcbse.com
SUMMARY:MID TERM
DESCRIPTION:
URL:https://bnpcbse.com/event/mid-term/
CATEGORIES:Mid Term
END:VEVENT
BEGIN:VEVENT
DTSTART;TZID=Asia/Kolkata:20261005T080000
DTEND;TZID=Asia/Kolkata:20261010T170000
DTSTAMP:20260425T003810
CREATED:20260406T165310Z
LAST-MODIFIED:20260406T165310Z
UID:603-1791187200-1791651600@bnpcbse.com
SUMMARY:MID TERM
DESCRIPTION:
URL:https://bnpcbse.com/event/mid-term-2/
CATEGORIES:Mid Term
END:VEVENT
END:VCALENDAR