BEGIN:VCALENDAR
VERSION:2.0
PRODID:-//Br. Nath Pai Central School, Kudal - ECPv6.15.20//NONSGML v1.0//EN
CALSCALE:GREGORIAN
METHOD:PUBLISH
X-ORIGINAL-URL:https://bnpcbse.com
X-WR-CALDESC:Events for Br. Nath Pai Central School, Kudal
REFRESH-INTERVAL;VALUE=DURATION:PT1H
X-Robots-Tag:noindex
X-PUBLISHED-TTL:PT1H
BEGIN:VTIMEZONE
TZID:Asia/Kolkata
BEGIN:STANDARD
TZOFFSETFROM:+0530
TZOFFSETTO:+0530
TZNAME:IST
DTSTART:20250101T000000
END:STANDARD
END:VTIMEZONE
BEGIN:VEVENT
DTSTART;TZID=Asia/Kolkata:20260713T080000
DTEND;TZID=Asia/Kolkata:20260718T170000
DTSTAMP:20260425T064724
CREATED:20260406T163913Z
LAST-MODIFIED:20260406T163913Z
UID:567-1783929600-1784394000@bnpcbse.com
SUMMARY:PT-1
DESCRIPTION:
URL:https://bnpcbse.com/event/pt-1/
CATEGORIES:PT-1
END:VEVENT
BEGIN:VEVENT
DTSTART;VALUE=DATE:20260720
DTEND;VALUE=DATE:20260721
DTSTAMP:20260425T064724
CREATED:20260406T163959Z
LAST-MODIFIED:20260406T163959Z
UID:569-1784505600-1784591999@bnpcbse.com
SUMMARY:PT-1
DESCRIPTION:
URL:https://bnpcbse.com/event/pt-1-2/
CATEGORIES:PT-1
END:VEVENT
END:VCALENDAR