BEGIN:VCALENDAR
VERSION:2.0
PRODID:-//Br. Nath Pai Central School, Kudal - ECPv6.15.20//NONSGML v1.0//EN
CALSCALE:GREGORIAN
METHOD:PUBLISH
X-ORIGINAL-URL:https://bnpcbse.com
X-WR-CALDESC:Events for Br. Nath Pai Central School, Kudal
REFRESH-INTERVAL;VALUE=DURATION:PT1H
X-Robots-Tag:noindex
X-PUBLISHED-TTL:PT1H
BEGIN:VTIMEZONE
TZID:Asia/Kolkata
BEGIN:STANDARD
TZOFFSETFROM:+0530
TZOFFSETTO:+0530
TZNAME:IST
DTSTART:20250101T000000
END:STANDARD
END:VTIMEZONE
BEGIN:VEVENT
DTSTART;VALUE=DATE:20260605
DTEND;VALUE=DATE:20260606
DTSTAMP:20260425T034152
CREATED:20260406T163550Z
LAST-MODIFIED:20260406T163550Z
UID:559-1780617600-1780703999@bnpcbse.com
SUMMARY:World Environment day
DESCRIPTION:
URL:https://bnpcbse.com/event/world-environment-day/
CATEGORIES:Special Days
END:VEVENT
BEGIN:VEVENT
DTSTART;VALUE=DATE:20260621
DTEND;VALUE=DATE:20260622
DTSTAMP:20260425T034152
CREATED:20260406T163639Z
LAST-MODIFIED:20260406T163639Z
UID:561-1782000000-1782086399@bnpcbse.com
SUMMARY:Yoga Day
DESCRIPTION:
URL:https://bnpcbse.com/event/yoga-day/
CATEGORIES:Special Days
END:VEVENT
END:VCALENDAR