BEGIN:VCALENDAR
VERSION:2.0
PRODID:-//Br. Nath Pai Central School, Kudal - ECPv6.15.20//NONSGML v1.0//EN
CALSCALE:GREGORIAN
METHOD:PUBLISH
X-ORIGINAL-URL:https://bnpcbse.com
X-WR-CALDESC:Events for Br. Nath Pai Central School, Kudal
REFRESH-INTERVAL;VALUE=DURATION:PT1H
X-Robots-Tag:noindex
X-PUBLISHED-TTL:PT1H
BEGIN:VTIMEZONE
TZID:Asia/Kolkata
BEGIN:STANDARD
TZOFFSETFROM:+0530
TZOFFSETTO:+0530
TZNAME:IST
DTSTART:20250101T000000
END:STANDARD
END:VTIMEZONE
BEGIN:VEVENT
DTSTART;VALUE=DATE:20260815
DTEND;VALUE=DATE:20260816
DTSTAMP:20260425T065202
CREATED:20260406T164247Z
LAST-MODIFIED:20260406T164247Z
UID:577-1786752000-1786838399@bnpcbse.com
SUMMARY:Independence Day
DESCRIPTION:
URL:https://bnpcbse.com/event/independence-day/
CATEGORIES:Special Days
END:VEVENT
END:VCALENDAR