BEGIN:VCALENDAR
VERSION:2.0
PRODID:-//Br. Nath Pai Central School, Kudal - ECPv6.15.20//NONSGML v1.0//EN
CALSCALE:GREGORIAN
METHOD:PUBLISH
X-WR-CALNAME:Br. Nath Pai Central School, Kudal
X-ORIGINAL-URL:https://bnpcbse.com
X-WR-CALDESC:Events for Br. Nath Pai Central School, Kudal
REFRESH-INTERVAL;VALUE=DURATION:PT1H
X-Robots-Tag:noindex
X-PUBLISHED-TTL:PT1H
BEGIN:VTIMEZONE
TZID:Asia/Kolkata
BEGIN:STANDARD
TZOFFSETFROM:+0530
TZOFFSETTO:+0530
TZNAME:IST
DTSTART:20250101T000000
END:STANDARD
END:VTIMEZONE
BEGIN:VEVENT
DTSTART;VALUE=DATE:20260303
DTEND;VALUE=DATE:20260304
DTSTAMP:20260424T232026
CREATED:20260319T131632Z
LAST-MODIFIED:20260319T131632Z
UID:395-1772496000-1772582399@bnpcbse.com
SUMMARY:Dolyatra (Holi)
DESCRIPTION:
URL:https://bnpcbse.com/event/dolyatra-holi/
CATEGORIES:Festivals
END:VEVENT
BEGIN:VEVENT
DTSTART;VALUE=DATE:20260304
DTEND;VALUE=DATE:20260305
DTSTAMP:20260424T232027
CREATED:20260319T135457Z
LAST-MODIFIED:20260319T135457Z
UID:421-1772582400-1772668799@bnpcbse.com
SUMMARY:Holi
DESCRIPTION:
URL:https://bnpcbse.com/event/holi/
CATEGORIES:Festivals
END:VEVENT
BEGIN:VEVENT
DTSTART;TZID=Asia/Kolkata:20260311T080000
DTEND;TZID=Asia/Kolkata:20260314T170000
DTSTAMP:20260424T232027
CREATED:20260319T141234Z
LAST-MODIFIED:20260324T015243Z
UID:423-1773216000-1773507600@bnpcbse.com
SUMMARY:Final Exams
DESCRIPTION:
URL:https://bnpcbse.com/event/final-exams/
CATEGORIES:Final Exams
END:VEVENT
BEGIN:VEVENT
DTSTART;TZID=Asia/Kolkata:20260316T080000
DTEND;TZID=Asia/Kolkata:20260318T170000
DTSTAMP:20260424T232027
CREATED:20260324T015511Z
LAST-MODIFIED:20260324T015511Z
UID:506-1773648000-1773853200@bnpcbse.com
SUMMARY:Final Exams
DESCRIPTION:
URL:https://bnpcbse.com/event/final-exams-2/
CATEGORIES:Final Exams
END:VEVENT
BEGIN:VEVENT
DTSTART;VALUE=DATE:20260319
DTEND;VALUE=DATE:20260320
DTSTAMP:20260424T232027
CREATED:20260319T141333Z
LAST-MODIFIED:20260319T141333Z
UID:426-1773878400-1773964799@bnpcbse.com
SUMMARY:Gudhipadwa
DESCRIPTION:
URL:https://bnpcbse.com/event/gudhipadwa/
CATEGORIES:Festivals
END:VEVENT
BEGIN:VEVENT
DTSTART;VALUE=DATE:20260320
DTEND;VALUE=DATE:20260321
DTSTAMP:20260424T232027
CREATED:20260319T141406Z
LAST-MODIFIED:20260319T141406Z
UID:428-1773964800-1774051199@bnpcbse.com
SUMMARY:Jamat-ul-Vida
DESCRIPTION:
URL:https://bnpcbse.com/event/jamat-ul-vida/
CATEGORIES:Festivals
END:VEVENT
BEGIN:VEVENT
DTSTART;VALUE=DATE:20260321
DTEND;VALUE=DATE:20260322
DTSTAMP:20260424T232027
CREATED:20260319T141438Z
LAST-MODIFIED:20260319T141438Z
UID:430-1774051200-1774137599@bnpcbse.com
SUMMARY:Eid ul Fitr/Ramadan Id
DESCRIPTION:
URL:https://bnpcbse.com/event/eid-ul-fitr-ramadan-id/
CATEGORIES:Festivals
END:VEVENT
BEGIN:VEVENT
DTSTART;VALUE=DATE:20260322
DTEND;VALUE=DATE:20260323
DTSTAMP:20260424T232027
CREATED:20260319T141526Z
LAST-MODIFIED:20260319T141526Z
UID:432-1774137600-1774223999@bnpcbse.com
SUMMARY:World Water Day
DESCRIPTION:
URL:https://bnpcbse.com/event/world-water-day/
CATEGORIES:Special Days
END:VEVENT
BEGIN:VEVENT
DTSTART;VALUE=DATE:20260326
DTEND;VALUE=DATE:20260327
DTSTAMP:20260424T232027
CREATED:20260319T141557Z
LAST-MODIFIED:20260319T141557Z
UID:434-1774483200-1774569599@bnpcbse.com
SUMMARY:Ram Navami
DESCRIPTION:
URL:https://bnpcbse.com/event/ram-navami/
CATEGORIES:Festivals
END:VEVENT
BEGIN:VEVENT
DTSTART;VALUE=DATE:20260331
DTEND;VALUE=DATE:20260401
DTSTAMP:20260424T232027
CREATED:20260319T141618Z
LAST-MODIFIED:20260319T141618Z
UID:436-1774915200-1775001599@bnpcbse.com
SUMMARY:Mahavir Jayanti
DESCRIPTION:
URL:https://bnpcbse.com/event/mahavir-jayanti/
CATEGORIES:Festivals
END:VEVENT
END:VCALENDAR