BEGIN:VCALENDAR
VERSION:2.0
PRODID:-//Br. Nath Pai Central School, Kudal - ECPv6.15.20//NONSGML v1.0//EN
CALSCALE:GREGORIAN
METHOD:PUBLISH
X-WR-CALNAME:Br. Nath Pai Central School, Kudal
X-ORIGINAL-URL:https://bnpcbse.com
X-WR-CALDESC:Events for Br. Nath Pai Central School, Kudal
REFRESH-INTERVAL;VALUE=DURATION:PT1H
X-Robots-Tag:noindex
X-PUBLISHED-TTL:PT1H
BEGIN:VTIMEZONE
TZID:Asia/Kolkata
BEGIN:STANDARD
TZOFFSETFROM:+0530
TZOFFSETTO:+0530
TZNAME:IST
DTSTART:20250101T000000
END:STANDARD
END:VTIMEZONE
BEGIN:VEVENT
DTSTART;VALUE=DATE:20261002
DTEND;VALUE=DATE:20261003
DTSTAMP:20260425T064324
CREATED:20260406T165150Z
LAST-MODIFIED:20260406T165150Z
UID:599-1790899200-1790985599@bnpcbse.com
SUMMARY:Mahatma Gandhi Jayanti/ rally
DESCRIPTION:
URL:https://bnpcbse.com/event/mahatma-gandhi-jayanti-rally/
CATEGORIES:Special Days
END:VEVENT
BEGIN:VEVENT
DTSTART;VALUE=DATE:20261003
DTEND;VALUE=DATE:20261004
DTSTAMP:20260425T064324
CREATED:20260406T165235Z
LAST-MODIFIED:20260406T165235Z
UID:601-1790985600-1791071999@bnpcbse.com
SUMMARY:MID TERM
DESCRIPTION:
URL:https://bnpcbse.com/event/mid-term/
CATEGORIES:Mid Term
END:VEVENT
BEGIN:VEVENT
DTSTART;TZID=Asia/Kolkata:20261005T080000
DTEND;TZID=Asia/Kolkata:20261010T170000
DTSTAMP:20260425T064324
CREATED:20260406T165310Z
LAST-MODIFIED:20260406T165310Z
UID:603-1791187200-1791651600@bnpcbse.com
SUMMARY:MID TERM
DESCRIPTION:
URL:https://bnpcbse.com/event/mid-term-2/
CATEGORIES:Mid Term
END:VEVENT
BEGIN:VEVENT
DTSTART;VALUE=DATE:20261016
DTEND;VALUE=DATE:20261017
DTSTAMP:20260425T064324
CREATED:20260406T165513Z
LAST-MODIFIED:20260406T165513Z
UID:605-1792108800-1792195199@bnpcbse.com
SUMMARY:Sarswati Aavahan
DESCRIPTION:
URL:https://bnpcbse.com/event/sarswati-aavahan/
CATEGORIES:Festivals
END:VEVENT
BEGIN:VEVENT
DTSTART;VALUE=DATE:20261017
DTEND;VALUE=DATE:20261018
DTSTAMP:20260425T064324
CREATED:20260406T165550Z
LAST-MODIFIED:20260406T165550Z
UID:607-1792195200-1792281599@bnpcbse.com
SUMMARY:Sarswati Pujan
DESCRIPTION:
URL:https://bnpcbse.com/event/sarswati-pujan/
CATEGORIES:Festivals
END:VEVENT
BEGIN:VEVENT
DTSTART;VALUE=DATE:20261018
DTEND;VALUE=DATE:20261019
DTSTAMP:20260425T064324
CREATED:20260406T165622Z
LAST-MODIFIED:20260406T165622Z
UID:609-1792281600-1792367999@bnpcbse.com
SUMMARY:sarswati Visarjan
DESCRIPTION:
URL:https://bnpcbse.com/event/sarswati-visarjan/
CATEGORIES:Festivals
END:VEVENT
BEGIN:VEVENT
DTSTART;VALUE=DATE:20261020
DTEND;VALUE=DATE:20261021
DTSTAMP:20260425T064324
CREATED:20260406T165655Z
LAST-MODIFIED:20260406T165655Z
UID:611-1792454400-1792540799@bnpcbse.com
SUMMARY:Dussehra
DESCRIPTION:
URL:https://bnpcbse.com/event/dussehra/
CATEGORIES:Festivals
END:VEVENT
BEGIN:VEVENT
DTSTART;VALUE=DATE:20261025
DTEND;VALUE=DATE:20261026
DTSTAMP:20260425T064324
CREATED:20260406T165720Z
LAST-MODIFIED:20260406T165720Z
UID:613-1792886400-1792972799@bnpcbse.com
SUMMARY:Kojagiri Purnima
DESCRIPTION:
URL:https://bnpcbse.com/event/kojagiri-purnima/
END:VEVENT
END:VCALENDAR