BEGIN:VCALENDAR
VERSION:2.0
PRODID:-//Br. Nath Pai Central School, Kudal - ECPv6.15.20//NONSGML v1.0//EN
CALSCALE:GREGORIAN
METHOD:PUBLISH
X-WR-CALNAME:Br. Nath Pai Central School, Kudal
X-ORIGINAL-URL:https://bnpcbse.com
X-WR-CALDESC:Events for Br. Nath Pai Central School, Kudal
REFRESH-INTERVAL;VALUE=DURATION:PT1H
X-Robots-Tag:noindex
X-PUBLISHED-TTL:PT1H
BEGIN:VTIMEZONE
TZID:Asia/Kolkata
BEGIN:STANDARD
TZOFFSETFROM:+0530
TZOFFSETTO:+0530
TZNAME:IST
DTSTART:20250101T000000
END:STANDARD
END:VTIMEZONE
BEGIN:VEVENT
DTSTART;VALUE=DATE:20261105
DTEND;VALUE=DATE:20261106
DTSTAMP:20260425T082123
CREATED:20260406T170258Z
LAST-MODIFIED:20260406T170258Z
UID:615-1793836800-1793923199@bnpcbse.com
SUMMARY:Vasubaras Swarsandhya
DESCRIPTION:
URL:https://bnpcbse.com/event/vasubaras-swarsandhya/
CATEGORIES:Festivals
END:VEVENT
BEGIN:VEVENT
DTSTART;VALUE=DATE:20261106
DTEND;VALUE=DATE:20261107
DTSTAMP:20260425T082123
CREATED:20260406T170347Z
LAST-MODIFIED:20260406T170347Z
UID:617-1793923200-1794009599@bnpcbse.com
SUMMARY:Dhanotrayodhashi
DESCRIPTION:
URL:https://bnpcbse.com/event/dhanotrayodhashi/
CATEGORIES:Festivals
END:VEVENT
BEGIN:VEVENT
DTSTART;TZID=Asia/Kolkata:20261106T080000
DTEND;TZID=Asia/Kolkata:20261111T170000
DTSTAMP:20260425T082123
CREATED:20260406T170433Z
LAST-MODIFIED:20260406T170433Z
UID:619-1793952000-1794416400@bnpcbse.com
SUMMARY:DIWALI VACATION
DESCRIPTION:
URL:https://bnpcbse.com/event/diwali-vacation/
CATEGORIES:Festivals
END:VEVENT
BEGIN:VEVENT
DTSTART;VALUE=DATE:20261114
DTEND;VALUE=DATE:20261115
DTSTAMP:20260425T082124
CREATED:20260406T170509Z
LAST-MODIFIED:20260406T170509Z
UID:621-1794614400-1794700799@bnpcbse.com
SUMMARY:Pandit Neharu Jayanti / Children's Day
DESCRIPTION:
URL:https://bnpcbse.com/event/pandit-neharu-jayanti-childrens-day/
CATEGORIES:Special Days
END:VEVENT
BEGIN:VEVENT
DTSTART;VALUE=DATE:20261124
DTEND;VALUE=DATE:20261125
DTSTAMP:20260425T082124
CREATED:20260406T170539Z
LAST-MODIFIED:20260406T170539Z
UID:623-1795478400-1795564799@bnpcbse.com
SUMMARY:Guru Nanak Jayanti
DESCRIPTION:
URL:https://bnpcbse.com/event/guru-nanak-jayanti/
CATEGORIES:Special Days
END:VEVENT
END:VCALENDAR